BEGIN:VCALENDAR
VERSION:2.0
PRODID:-//Humble Hope - ECPv5.3.2.1//NONSGML v1.0//EN
CALSCALE:GREGORIAN
METHOD:PUBLISH
X-WR-CALNAME:Humble Hope
X-ORIGINAL-URL:http://humblehope.org.au
X-WR-CALDESC:Events for Humble Hope
BEGIN:VTIMEZONE
TZID:Australia/Melbourne
BEGIN:STANDARD
TZOFFSETFROM:+1100
TZOFFSETTO:+1000
TZNAME:AEST
DTSTART:20160402T160000
END:STANDARD
BEGIN:DAYLIGHT
TZOFFSETFROM:+1000
TZOFFSETTO:+1100
TZNAME:AEDT
DTSTART:20161001T160000
END:DAYLIGHT
END:VTIMEZONE
BEGIN:VEVENT
DTSTART;TZID=Australia/Melbourne:20160718T183000
DTEND;TZID=Australia/Melbourne:20160718T203000
DTSTAMP:20210301T032005
CREATED:20160708T050843Z
LAST-MODIFIED:20160708T050843Z
UID:118-1468866600-1468873800@humblehope.org.au
SUMMARY:Pre-Screening Fundraiser - Ringwood VIC
DESCRIPTION:Featuring Q & A with Executive Producer Warwick Marsh &  Abuse Survivors from the Documentary  \nHumble Hope tells the triumphant stories of those who have suffered in silence too long. 1 in 4 women and 1 in 6 men are survivors of childhood sexual abuse. In February 2015 church leaders asked for forgiveness in an historic repentance service in the Great Hall of Parliament House\, Canberra that brought healing to many. The Humble Hope documentary sheds light on the problem and looks for solutions. Counsellors and psychologists share their insights and the survivors will inspire you with their amazing stories of faith\, hope and love. \nFREE PIZZA DINNER \nEveryone who attends this special free screening of the documentary will be given the opportunity to make a Tax Deductible Donation to Humble Hope. The mission of Humble Hope is to turn the tide of child sexual abuse and in Jesus name bring hope and healing to sexual abuse survivors. \nContact Christine Hohmann-Andrasch 0416 223 096 for more information.
URL:http://humblehope.org.au/event/pre-screening-fundraiser-ringwood/
CATEGORIES:Pre-Screening Fundraiser
ATTACH;FMTTYPE=image/jpeg:http://humblehope.ausheartnetwork.org.au/wp-content/uploads/sites/5/2016/06/Humble-Hope-Event-Brite-Picture.jpg
END:VEVENT
END:VCALENDAR